BEGIN:VCALENDAR
VERSION:2.0
PRODID:-//hacksw/handcal//NONSGML v1.0//EN
BEGIN:VEVENT
DTSTAMP:20260513T153000Z
DTSTART:20260513T153000Z
DTEND:20260513T163000Z
LOCATION:Genusswerkstatt, Clemensstraße 16, Koblenz, 56068 , Deutschland
SUMMARY:CDU im Dialog mit Intendant Markus Dietze
END:VEVENT
END:VCALENDAR
